BEGIN:VCALENDAR
VERSION:2.0
PRODID:spatie/icalendar-generator
DESCRIPTION:Veranstaltungen von Verein zur Förderung der Städtepartnersch
 aft Aachen-Toledo e.V.
X-WR-CALDESC:Veranstaltungen von Verein zur Förderung der Städtepartnersc
 haft Aachen-Toledo e.V.
REFRESH-INTERVAL;VALUE=DURATION:PT1440M
X-PUBLISHED-TTL:PT1440M
BEGIN:VTIMEZONE
TZID:Etc/GMT+0
BEGIN:STANDARD
DTSTART:20210202T160000Z
TZOFFSETFROM:+0000
TZOFFSETTO:+0000
END:STANDARD
END:VTIMEZONE
BEGIN:VTIMEZONE
TZID:UTC
BEGIN:STANDARD
DTSTART:20250727T103353Z
TZOFFSETFROM:+0000
TZOFFSETTO:+0000
END:STANDARD
END:VTIMEZONE
BEGIN:VEVENT
UID:760-54
DTSTAMP:20260423T103353Z
SUMMARY:Paella-Herbst-Essen
LOCATION:
ORGANIZER;CN=admin:MAILTO:carlos.torre@aachen-toledo.de
DTSTART;TZID=Etc/GMT+0:20211030T160000
DTEND;TZID=Etc/GMT+0:20211030T200000
X-ALT-DESC;FMTTYPE=TEXT/HTML:Samstag\, 30. Oktober 2021 um 16:00 Uhr Paella
 -Herbst-Essen Betriebsgelände SEC Technik Boukes\, Hergelsbendenstr. 16\,
  52080 Aachen Bushaltestelle \"Haaren Markt\" (Linien 1\, 11\, 21\, 46). V
 erbindliche Anmeldungen: Diese werden in der Zeit vom 23-28.10.2021 von Cl
 aus Haase unter Tel.: 0241 - 86 969 (Anrufbeantworter) entgegengenommen. N
 ennen Sie bitte deutlich Ihren Namen\, Ihre Rufnummer und die Anzahl&amp;helli
 p\;
CATEGORIES:General
URL;VALUE=URI:https://aachen-toledo.de/mc-events/paella-herbst-essen/
METHOD:PUBLISH
END:VEVENT
END:VCALENDAR