BEGIN:VCALENDAR
VERSION:2.0
PRODID:spatie/icalendar-generator
DESCRIPTION:Veranstaltungen von Verein zur Förderung der Städtepartnersch
 aft Aachen-Toledo e.V.
X-WR-CALDESC:Veranstaltungen von Verein zur Förderung der Städtepartnersc
 haft Aachen-Toledo e.V.
REFRESH-INTERVAL;VALUE=DURATION:PT1440M
X-PUBLISHED-TTL:PT1440M
BEGIN:VTIMEZONE
TZID:Etc/GMT+0
BEGIN:STANDARD
DTSTART:20190802T000000Z
TZOFFSETFROM:+0000
TZOFFSETTO:+0000
END:STANDARD
END:VTIMEZONE
BEGIN:VTIMEZONE
TZID:UTC
BEGIN:STANDARD
DTSTART:20250727T103515Z
TZOFFSETFROM:+0000
TZOFFSETTO:+0000
END:STANDARD
END:VTIMEZONE
BEGIN:VEVENT
UID:270-23
DTSTAMP:20260423T103515Z
SUMMARY:Cantemos con alegría
LOCATION:
ORGANIZER;CN=admin:MAILTO:carlos.torre@aachen-toledo.de
DTSTART;TZID=Etc/GMT+0;VALUE=DATE:20200428
DTEND;TZID=Etc/GMT+0;VALUE=DATE:20200429
X-ALT-DESC;FMTTYPE=TEXT/HTML:ABGESAGT - Cantemos con alegría (Information:
  Ingrid Seibert)  wegen Coronavirus CANCELADO - Cantemos con alegría (In
 formación: Ingrid Seibert) por el coronavirus
CATEGORIES:General
URL;VALUE=URI:https://aachen-toledo.de/mc-events/cantemos-con-alegria-3/
METHOD:PUBLISH
END:VEVENT
END:VCALENDAR